BEGIN:VCALENDAR
PRODID:NingEventWidget-v1
VERSION:2.0
METHOD:PUBLISH
BEGIN:VEVENT
UID:1171189:Event:92386
DTSTAMP:20260421T214536Z
SUMMARY:Foreclosure Prevention Forum
DESCRIPTION:FREE HUD-approved Foreclosure Prevention Counseling\nDon't
  get ripped off!  Don't pay anyone for loan modification or foreclosu
 re prevention counseling.  Use only HUD-approved services.  To learn
  how to avoid foreclosure, please attend a Foreclosure Prevention Foru
 m in your neighborhood.\n\nFor more information visit http://neighbors
 forneighbors.org/events/foreclosure-prevention-forum-3
DTSTART:20121129T230000Z
DTEND:20121130T010000Z
CATEGORIES:foreclosure, prevention, and, loan, modification, counselin
 g
LOCATION:Roslindale Community Center
WEBSITE:http://www.esacboston.org
URL:http://www.esacboston.org
CONTACT:(617) 524-2555
ORGANIZER:ESAC Sustainable Homeownership Center
ATTACH;FMTTYPE="image/jpeg":
ATTENDEE;ROLE=REQ-PARTICIPANT;PARTSTAT=ACCEPTED;RSVP=TRUE;CN="Linda A.
  Morfin":http://neighborsforneighbors.org/profile/LindaAMorfin
END:VEVENT
END:VCALENDAR
