BEGIN:VCALENDAR
PRODID:NingEventWidget-v1
VERSION:2.0
METHOD:PUBLISH
BEGIN:VEVENT
UID:1171189:Event:92341
DTSTAMP:20260421T182318Z
SUMMARY:Foreclosure Prevention Forum Sponsored by ESAC Sustainable Hom
 eownership Center
DESCRIPTION:FREE HUD-approved Foreclosure Prevention Counseling\nDon't
  get ripped off!  Don't pay anyone for loan modification or foreclosu
 re prevention counseling.  Use only HUD-approved services.  To learn
  how to avoid foreclosure, please attend a Foreclosure Prevention Foru
 m in your neighborhood.\n\nFor more information visit http://neighbors
 forneighbors.org/events/foreclosure-prevention-forum-sponsored-by-esac
 -sustainable
DTSTART:20121206T230000Z
DTEND:20121207T010000Z
CATEGORIES:community, -, foreclosure, prevention, or, loan, modificati
 on
LOCATION:Brookside Community Health Center
WEBSITE:http://www.esacboston.org
URL:http://www.esacboston.org
CONTACT:617-524-2555
ORGANIZER;CN="Linda A. Morfin":http://neighborsforneighbors.org/profil
 e/LindaAMorfin
ATTACH;FMTTYPE="image/jpeg":
ATTENDEE;ROLE=REQ-PARTICIPANT;PARTSTAT=ACCEPTED;RSVP=TRUE;CN="Linda A.
  Morfin":http://neighborsforneighbors.org/profile/LindaAMorfin
END:VEVENT
END:VCALENDAR
