BEGIN:VCALENDAR
PRODID:NingEventWidget-v1
VERSION:2.0
METHOD:PUBLISH
BEGIN:VEVENT
UID:1171189:Event:45709
DTSTAMP:20260421T202203Z
SUMMARY:Fort Of July
DESCRIPTION:Fort of July = playfulness + community building + irreleva
 nt revelry\n\nteam awesomes all over the globe unite and celebrate in 
 the name of awesome, fun-enabling, just-for-the-heck-of-it attitude, t
 he spirit of nevernever land, and because building forts is just downr
 ight sweet!\n\nso on July 4th:\n* get a gang together\n* brings fort s
 upplies – sheets, pillows, boxes, ladders, tree fronds, whatever-is-
 clever!\n* build an awesome fort\n* play together, in the flesh and us
 ing fun flashy techy tools to connect forts in worldwide\n* Invite new
 comers, curious observers, neighbors to join in the fun\n\nideas = wel
 come! spreading the idea = super welcome! making it blow up = well duh
 !\n\nFor more information visit http://neighborsforneighbors.org/event
 s/fort-of-july
DTSTART:20100704T040000Z
DTEND:20100705T035900Z
CATEGORIES:fun, "!!!"
LOCATION:Your house / backyard / park
WEBSITE:http://fortofjuly.wordpress.com/
URL:http://fortofjuly.wordpress.com/
CONTACT:
ORGANIZER;CN=Andrea:http://neighborsforneighbors.org/profile/Andrea90
ATTACH;FMTTYPE="image/jpeg":http://storage.ning.com/topology/rest/1.0/
 file/get/2245129308?profile=original
ATTENDEE;ROLE=REQ-PARTICIPANT;PARTSTAT=ACCEPTED;RSVP=TRUE;CN=Andrea:ht
 tp://neighborsforneighbors.org/profile/Andrea90
END:VEVENT
END:VCALENDAR
