BEGIN:VCALENDAR
PRODID:NingEventWidget-v1
VERSION:2.0
METHOD:PUBLISH
BEGIN:VEVENT
UID:1171189:Event:43324
DTSTAMP:20260421T200727Z
SUMMARY:FORUM: Economics of Local Food
DESCRIPTION:Come hear local food economy leaders talk about the issues
  of raising and bringing high quality food to market. Learn how these 
 issues affect farmers, producers, merchants; while learning more about
  the produce, seafood, beef and poultry that is raised right here in N
 ew England.\n\nPanelists:\nDavid Warner: Co-Owner of City Feed and Sup
 ply\nJim Buckle: Farmer, Allandale Farm\nNiaz Dorry: Northwest Atlanti
 c Marine Alliance\nJamey Lionette: Former owner of Lionette's Market &
  Current organizer of The Boston Local Food Festival\nRidge Shin: Hard
 wick Beef\n\nModerated by:\nIlene Bezahler: Edible Boston Editor/Publi
 sher\n\nWhere: English High Auditorium, 144 McBride Street, Jamaica Pl
 ain, MA. Entrance on Williams Street.\n\nDate: Thursday, May 13th\n\nT
 ime: 7:00 pm - 9:00 pm\n\nPresented by:\nCity Feed and Supply & Edible
  Boston\n\nDon't miss this great line up of local food leaders. Discus
 sion is sure to be lively & enlightening! Please email community.cityf
 eed@gmail.com with any questions about the event.\n\nFor more informat
 ion visit http://neighborsforneighbors.org/events/forum-economics-of-l
 ocal-food
DTSTART:20100513T230000Z
DTEND:20100514T010000Z
CATEGORIES:community, forum
LOCATION:English High
WEBSITE:http://maps.google.com/maps/ms?hl=en&ie=UTF8&msa=0&msid=100553
 948374949881352.0004863ed99ed07bfd2d9&z=19
URL:http://maps.google.com/maps/ms?hl=en&ie=UTF8&msa=0&msid=1005539483
 74949881352.0004863ed99ed07bfd2d9&z=19
CONTACT:617-524-5539
ORGANIZER;CN="City Feed and Supply":http://neighborsforneighbors.org/p
 rofile/CityFeedandSupply
ATTACH;FMTTYPE="image/jpeg":http://storage.ning.com/topology/rest/1.0/
 file/get/2245129084?profile=original
ATTENDEE;ROLE=REQ-PARTICIPANT;PARTSTAT=ACCEPTED;RSVP=TRUE;CN="Steve Ga
 tzos":http://neighborsforneighbors.org/profile/SteveGatzos
ATTENDEE;ROLE=REQ-PARTICIPANT;PARTSTAT=ACCEPTED;RSVP=TRUE;CN="City Fee
 d and Supply":http://neighborsforneighbors.org/profile/CityFeedandSupp
 ly
END:VEVENT
END:VCALENDAR
