BEGIN:VCALENDAR
PRODID:NingEventWidget-v1
VERSION:2.0
METHOD:PUBLISH
BEGIN:VEVENT
UID:1171189:Event:51424
DTSTAMP:20260421T183734Z
SUMMARY:Forum on Medicinal Marijuana
DESCRIPTION:Medical specialists, health care advocates and politicians
  will each have a few words to say.\nShould be interesting.\n\nFor mor
 e information visit http://neighborsforneighbors.org/events/forum-on-m
 edicinal-marijuana
DTSTART:20100823T220000Z
DTEND:20100824T010000Z
CATEGORIES:educational
LOCATION:First Church in Jamaica Plain
WEBSITE:http://www.firstchurchjp.org
URL:http://www.firstchurchjp.org
CONTACT:
ORGANIZER:MassCann
ATTACH;FMTTYPE="image/jpeg":
ATTENDEE;ROLE=REQ-PARTICIPANT;PARTSTAT=ACCEPTED;RSVP=TRUE;CN="Jeffrey 
 Albert Herman":http://neighborsforneighbors.org/profile/JeffreyAlbertH
 erman
END:VEVENT
END:VCALENDAR
