BEGIN:VCALENDAR
PRODID:NingEventWidget-v1
VERSION:2.0
METHOD:PUBLISH
BEGIN:VEVENT
UID:1171189:Event:95632
DTSTAMP:20260421T224022Z
SUMMARY:Franklin Park Annual Kite & Bike Festival
DESCRIPTION:Join thousands of people in Franklin park to celebrate the
  arrival of Spring! Bring your kite or you can buy one in the park. To
 ur the park with free bike “rentals” or bring your own. Food truck
 s for picnics. This event is family friendly and fun for all ages.\nIt
  is in a NEW location by the Shattuck Picnic Grove and tennis courts!\
 n\nCo-Presented by Discover Roxbury and Boston Bikes\n\nFor more infor
 mation visit http://neighborsforneighbors.org/events/franklin-park-ann
 ual-kite-bike-festival
DTSTART:20130518T150000Z
DTEND:20130518T200000Z
CATEGORIES:festival
LOCATION:Franklin Park Shattuck Fields
WEBSITE:
URL:
CONTACT:
ORGANIZER;CN="Christine Poff":http://neighborsforneighbors.org/profile
 /ChristinePoff67
ATTACH;FMTTYPE="image/jpeg":http://storage.ning.com/topology/rest/1.0/
 file/get/2245141120?profile=original
ATTENDEE;ROLE=REQ-PARTICIPANT;PARTSTAT=ACCEPTED;RSVP=TRUE;CN="Christin
 e Poff":http://neighborsforneighbors.org/profile/ChristinePoff67
END:VEVENT
END:VCALENDAR
