BEGIN:VCALENDAR
PRODID:NingEventWidget-v1
VERSION:2.0
METHOD:PUBLISH
BEGIN:VEVENT
UID:1171189:Event:106146
DTSTAMP:20260422T065056Z
SUMMARY:Franklin Park Bike and Kite Festival
DESCRIPTION:Bike to the park or you can get a free bike “rental” o
 f any size to ride on paved park paths. Kites that are easy to fly wil
 l be for sale starting at just a few dollars up to big, fancy ones. Br
 ing a picnic lunch or enjoy fare from local food trucks. Sponsored by 
 the Franklin Park Coalition, Discover Roxbury, the Boston Parks Depart
 ment, and Boston Bikes.\n\nFor more information visit http://neighbors
 forneighbors.org/events/franklin-park-bike-and-kite-festival
DTSTART:20140517T150000Z
DTEND:20140517T200000Z
CATEGORIES:festival
LOCATION:Franklin Park Playstead ballfields
WEBSITE:http://www.franklinparkcoalition.org/event/kite-festival/
URL:http://www.franklinparkcoalition.org/event/kite-festival/
CONTACT:617-442-4141
ORGANIZER:Franklin Park Coalition, Discover Roxbury, the Boston Parks 
 Department, and Boston Bikes
ATTACH;FMTTYPE="image/jpeg":
ATTENDEE;ROLE=REQ-PARTICIPANT;PARTSTAT=ACCEPTED;RSVP=TRUE;CN="Christin
 e Poff":http://neighborsforneighbors.org/profile/ChristinePoff67
END:VEVENT
END:VCALENDAR
