BEGIN:VCALENDAR
PRODID:NingEventWidget-v1
VERSION:2.0
METHOD:PUBLISH
BEGIN:VEVENT
UID:1171189:Event:95911
DTSTAMP:20260421T223035Z
SUMMARY:Franklin Park Coalition Annual Meeting
DESCRIPTION:Celebrate a great year for FPC at our annual meeting featu
 ring award-winning Boston Globe journalist, Derrick Z. Jackson. Come
  early and mingle with fellow members and park lovers. Hear about upco
 ming events and projects. Light refreshments will be served.\nLearn mo
 re about Derrick Z. Jackson on his Globe webpage. Mr. Jackson previou
 sly wrote a feature mentioning Franklin Park titled  ”The Return of
  the Trees”. You can read it here. He also writes articles that foc
 us on youth, graduation rates for college athletes, race inequities,
  public health, the outdoors, and environmental issues. We are very ex
 cited to have him as our 2013 speaker.\n\nRSVP \n\nFor more informati
 on visit http://neighborsforneighbors.org/events/franklin-park-coaliti
 on-annual-meeting
DTSTART:20130411T220000Z
DTEND:20130412T000000Z
CATEGORIES:community, meeting
LOCATION:Franklin Park Golf Clubhouse
WEBSITE:http://www.franklinparkcoalition.org
URL:http://www.franklinparkcoalition.org
CONTACT:617-442-4141
ORGANIZER:Franklin Park Coalition
ATTACH;FMTTYPE="image/jpeg":http://storage.ning.com/topology/rest/1.0/
 file/get/2245141080?profile=original
ATTENDEE;ROLE=REQ-PARTICIPANT;PARTSTAT=ACCEPTED;RSVP=TRUE;CN="Christin
 e Poff":http://neighborsforneighbors.org/profile/ChristinePoff67
END:VEVENT
END:VCALENDAR
