BEGIN:VCALENDAR
PRODID:NingEventWidget-v1
VERSION:2.0
METHOD:PUBLISH
BEGIN:VEVENT
UID:1171189:Event:80954
DTSTAMP:20260422T044107Z
SUMMARY:Franklin Park Fall Festival
DESCRIPTION: \nFrom 1 – 5:30 pm enjoy FREE outdoor activities for a
 ll ages in scenic Franklin Park. You can climb a tree, borrow a bike f
 or a park tour, join a family nature hike, and forage for wild edible 
 plants.  For a full schedule, registration and directions go to: www.f
 ranklinparkcoalition.org or call 617-442-4141.\n \n\nFor more informa
 tion visit http://neighborsforneighbors.org/events/franklin-park-fall-
 festival
DTSTART:20111001T170000Z
DTEND:20111001T213000Z
CATEGORIES:festival
LOCATION:Franklin Park - Valley Gates (Rear entrance of the Zoo)
WEBSITE:http://www.franklinparkcoalition.org
URL:http://www.franklinparkcoalition.org
CONTACT:617-442-4141
ORGANIZER;CN="Christine Poff":http://neighborsforneighbors.org/profile
 /ChristinePoff67
ATTACH;FMTTYPE="image/jpeg":http://storage.ning.com/topology/rest/1.0/
 file/get/2245134916?profile=original
ATTENDEE;ROLE=REQ-PARTICIPANT;PARTSTAT=ACCEPTED;RSVP=TRUE;CN="Christin
 e Poff":http://neighborsforneighbors.org/profile/ChristinePoff67
END:VEVENT
END:VCALENDAR
