BEGIN:VCALENDAR
PRODID:NingEventWidget-v1
VERSION:2.0
METHOD:PUBLISH
BEGIN:VEVENT
UID:1171189:Event:104498
DTSTAMP:20260421T185625Z
SUMMARY:Franklin Park Fall Leaf Raking Day
DESCRIPTION:Jumping in piles encouraged! All ages welcome. Bring a rak
 e and gloves if you have them, weâ€™ll have plenty for those who donâ€
 ™t. Come meet our Northeastern honor students who are working with us 
 all year in the woodlands. Â Weâ€™ll have hot chocolate if itâ€™s cold
  (and cancel if itâ€™s raining).\nMeet at Valley Gates Parking Lot - F
 or more information: www.franklinparkcoalition.org / 617-442-4141.\n\n
 For more information visit http://neighborsforneighbors.org/events/fra
 nklin-park-fall-leaf-raking-day
DTSTART:20131123T150000Z
DTEND:20131123T170000Z
CATEGORIES:volunteer
LOCATION:Franklin Park Valley Gates,
WEBSITE:http://www.franklinparkcoalition.org
URL:http://www.franklinparkcoalition.org
CONTACT:617-442-4141
ORGANIZER:Franklin Park Coalition
ATTACH;FMTTYPE="image/jpeg":
ATTENDEE;ROLE=REQ-PARTICIPANT;PARTSTAT=ACCEPTED;RSVP=TRUE;CN="Christin
 e Poff":http://neighborsforneighbors.org/profile/ChristinePoff67
END:VEVENT
END:VCALENDAR
