BEGIN:VCALENDAR
PRODID:NingEventWidget-v1
VERSION:2.0
METHOD:PUBLISH
BEGIN:VEVENT
UID:1171189:Event:110770
DTSTAMP:20260421T203947Z
SUMMARY:Franklin Park Halloween Night Hike
DESCRIPTION:No flashlights allowed! Be led through the spooky forest, 
 explore old stone ruins, and hike over hill & dale under the moonlight
 . Costumes and strollers not recommended. Wear sneakers.\nMeet at Vall
 ey Gates Parking Lot, midway along the main park road - look for the J
 ack O'Lantern. (Google: Glen Lane & Circuit Drive, Dorchester 02121) F
 or more information: www.franklinparkcoalition.org / 617-442-4141. \n
 \nFor more information visit http://neighborsforneighbors.org/events/f
 ranklin-park-halloween-night-hike
DTSTART:20141025T230000Z
DTEND:20141026T010000Z
CATEGORIES:community, fun, family
LOCATION:Valley Gates Parking Lot
WEBSITE:http://www.franklinparkcoalition.org
URL:http://www.franklinparkcoalition.org
CONTACT:617-442-4141
ORGANIZER;CN="Christine Poff":http://neighborsforneighbors.org/profile
 /ChristinePoff67
ATTACH;FMTTYPE="image/jpeg":http://storage.ning.com/topology/rest/1.0/
 file/get/2245142622?profile=original
ATTENDEE;ROLE=REQ-PARTICIPANT;PARTSTAT=ACCEPTED;RSVP=TRUE;CN="Christin
 e Poff":http://neighborsforneighbors.org/profile/ChristinePoff67
END:VEVENT
END:VCALENDAR
