BEGIN:VCALENDAR
PRODID:NingEventWidget-v1
VERSION:2.0
METHOD:PUBLISH
BEGIN:VEVENT
UID:1171189:Event:92181
DTSTAMP:20260421T230605Z
SUMMARY:Franklin Park Halloween Night Walk - Saturday, October 27th 7:
 00-8:30pm
DESCRIPTION:Join us for a spooky (safe!) walk in the park forest. No f
 lashlights allowed, wear sturdy shoes, costumes and strollers discoura
 ged. Explore the woods, hear about ghosts from earlier days in the par
 k, and be amazed by how well your night vision eyes can see! Meet at V
 alley Gates parking lot, midway along the main park road (google map: 
 Circuit Drive & Glen Lane, Boston). Look for the Jack O'Lantern. Bus #
 16 or 15 minute walk from Forest Hills, Blue Hill Avenue, Seaver St an
 d Walnut Ave. RSVP and questions: 617-442-4141 or rsvp@franklinpark
 coalition.org\n\nFor more information visit http://neighborsforneighbo
 rs.org/events/franklin-park-halloween-night-walk-saturday-october-27th
 -7-00-8
DTSTART:20121023T220000Z
DTEND:20121023T230000Z
CATEGORIES:community, halloween, event
LOCATION:Franklin Park
WEBSITE:http://www.franklinparkcoalition.org
URL:http://www.franklinparkcoalition.org
CONTACT:617-442-4141
ORGANIZER;CN="Christine Poff":http://neighborsforneighbors.org/profile
 /ChristinePoff67
ATTACH;FMTTYPE="image/jpeg":
ATTENDEE;ROLE=REQ-PARTICIPANT;PARTSTAT=ACCEPTED;RSVP=TRUE;CN="Christin
 e Poff":http://neighborsforneighbors.org/profile/ChristinePoff67
END:VEVENT
END:VCALENDAR
