BEGIN:VCALENDAR
PRODID:NingEventWidget-v1
VERSION:2.0
METHOD:PUBLISH
BEGIN:VEVENT
UID:1171189:Event:83883
DTSTAMP:20260421T185655Z
SUMMARY:Franklin Park Halloween Weekend
DESCRIPTION:join us for a spooky weekend starting on Friday October 28
  followed by our re-scheduled Fall Festival in Saturday.On Friday, (7-
 8:30PM) enjoy a walk through the spooky grounds of Franklin Park with 
 no light other than a Jack-o-lantern to lead the way. Saturday,(1-4PM
 ) bring the family out for a crisp fall day of activities such as face
  painting, watercolor painting, tree climbing, and family hikes! Don'
 t wait to RSVP!! See you all there\n \nVisit: www.franklinparkcoaliti
 on.org for more information\n\nFor more information visit http://neigh
 borsforneighbors.org/events/franklin-park-halloween-weekend
DTSTART:20111028T230000Z
DTEND:20111029T200000Z
CATEGORIES:festival
LOCATION:Franklin Park
WEBSITE:
URL:
CONTACT:617-442-4141
ORGANIZER:Franklin Park Coalition
ATTACH;FMTTYPE="image/jpeg":http://storage.ning.com/topology/rest/1.0/
 file/get/2245136398?profile=original
ATTENDEE;ROLE=REQ-PARTICIPANT;PARTSTAT=ACCEPTED;RSVP=TRUE;CN="Christin
 e Poff":http://neighborsforneighbors.org/profile/ChristinePoff67
END:VEVENT
END:VCALENDAR
