BEGIN:VCALENDAR
PRODID:NingEventWidget-v1
VERSION:2.0
METHOD:PUBLISH
BEGIN:VEVENT
UID:1171189:Event:42177
DTSTAMP:20260421T233948Z
SUMMARY:Franklin Park History Tour
DESCRIPTION:Explore Frederick Law Olmsted's \"jewel\" of the Emerald N
 ecklace. Learn about the early days of the golf course, the old sheep 
 meadow (they didn't need a lawn mower!), and the park's unique landsca
 pe features. See old stone ruins, incredible views, and a picturesque 
 pond alive with migrating birds. Led by local historian and Images of 
 America: Franklin Park author Julie Arrison. Please RSVP at rsvp@frank
 linparkcoalition.org or 617-442-4141. Meet at the Franklin Park Golf C
 lubhouse, One Circuit Drive, Roxbury.\n\nFor more information visit ht
 tp://neighborsforneighbors.org/events/franklin-park-history-tour-1
DTSTART:20100515T140000Z
DTEND:20100515T160000Z
CATEGORIES:guided, walk
LOCATION:Franklin Park
WEBSITE:http://www.franklinparkcoalition.org/index.php?option=com_cont
 ent&view=article&id=3&Itemid=4
URL:http://www.franklinparkcoalition.org/index.php?option=com_content&
 view=article&id=3&Itemid=4
CONTACT:617-442-4141
ORGANIZER;CN="Christine Poff":http://neighborsforneighbors.org/profile
 /ChristinePoff67
ATTACH;FMTTYPE="image/jpeg":http://storage.ning.com/topology/rest/1.0/
 file/get/2245131659?profile=original
ATTENDEE;ROLE=REQ-PARTICIPANT;PARTSTAT=ACCEPTED;RSVP=TRUE;CN="Christin
 e Poff":http://neighborsforneighbors.org/profile/ChristinePoff67
END:VEVENT
END:VCALENDAR
