BEGIN:VCALENDAR
PRODID:NingEventWidget-v1
VERSION:2.0
METHOD:PUBLISH
BEGIN:VEVENT
UID:1171189:Event:113303
DTSTAMP:20260421T190146Z
SUMMARY:Franklin Park Indoor-Outdoor Snow Day Fun
DESCRIPTION:Franklin Park Indoor-Outdoor Snow Day Fun - at the Golf Cl
 ubhouse 12:30-3:30 on Saturdays in February.  Bring a sled or borrow 
 one of ours.  Warm up inside with board games, arts and crafts, and e
 ven ping pong.  Hot chocolate and baked goods for sale to benefit par
 k programs.  Call if you have skis and would like a cross-country ski
  tour of the park.  \n\nFor more information visit http://neighborsfo
 rneighbors.org/events/franklin-park-indoor-outdoor-snow-day-fun
DTSTART:20150221T173000Z
DTEND:20150228T203000Z
CATEGORIES:sledding, snow, fun
LOCATION:Franklin Park Golf Clubhouse
WEBSITE:http://www.franklinparkcoalition.org
URL:http://www.franklinparkcoalition.org
CONTACT:617-442-4141
ORGANIZER;CN="Christine Poff":http://neighborsforneighbors.org/profile
 /ChristinePoff67
ATTACH;FMTTYPE="image/jpeg":http://storage.ning.com/topology/rest/1.0/
 file/get/2245143244?profile=original
ATTENDEE;ROLE=REQ-PARTICIPANT;PARTSTAT=ACCEPTED;RSVP=TRUE;CN="Christin
 e Poff":http://neighborsforneighbors.org/profile/ChristinePoff67
END:VEVENT
END:VCALENDAR
