BEGIN:VCALENDAR
PRODID:NingEventWidget-v1
VERSION:2.0
METHOD:PUBLISH
BEGIN:VEVENT
UID:1171189:Event:113861
DTSTAMP:20260421T182817Z
SUMMARY:Franklin Park Kite and Bike Festival
DESCRIPTION:Franklin Park Kite & Bike Festival - Saturday, May 16th 1
 1am - 4pm. Join us on the Franklin Park Playstead for an afternoon of 
 springtime fun! Bring a kite or buy one in the park. Free bike \"renta
 ls\" for all ages (and bike sizes). Food trucks, vendors, and more! On
  the Franklin Park Playstead - googlemaps: Circuit Drive & Glen Lane, 
 Roxbury 02121. Co-sponsored by Discover Roxbury and Franklin Park Coal
 ition. For more info: www.franklinparkcoalition.org / 617-442-4141.
  Rain Date: Sunday, 5/17/2015, 11am-4pm. \n\nFor more information vis
 it http://neighborsforneighbors.org/events/franklin-park-kite-and-bike
 -festival
DTSTART:20150516T150000Z
DTEND:20150516T200000Z
CATEGORIES:festival
LOCATION:Franklin Park Playstead
WEBSITE:https://www.google.com/maps/search/circuit+drive+%26+glen+lane
 /@42.3005003,-71.0943458,17z/data=!3m1!4b1
URL:https://www.google.com/maps/search/circuit+drive+%26+glen+lane/@42
 .3005003,-71.0943458,17z/data=!3m1!4b1
CONTACT:617-442-4141
ORGANIZER:Asia Garcia
ATTACH;FMTTYPE="image/jpeg":http://storage.ning.com/topology/rest/1.0/
 file/get/2245142899?profile=original
ATTENDEE;ROLE=REQ-PARTICIPANT;PARTSTAT=ACCEPTED;RSVP=TRUE;CN="Christin
 e Poff":http://neighborsforneighbors.org/profile/ChristinePoff67
END:VEVENT
END:VCALENDAR
