BEGIN:VCALENDAR
PRODID:NingEventWidget-v1
VERSION:2.0
METHOD:PUBLISH
BEGIN:VEVENT
UID:1171189:Event:89746
DTSTAMP:20260421T230852Z
SUMMARY:Franklin Park Kite & Bike Festival
DESCRIPTION:Come fly a kite for this longstanding Franklin Park tradit
 ion that you may remember from your childhood! The first 50 people wil
 l receive a free kite, there’ll be plenty of others for purchase. Bo
 ston Bikes will have free bike “rentals” and helmets for all size 
 riders so you can explore the park on wheels or join a guided tour. Ke
 ep your fingers crossed for a windy, gorgeous spring day! On the Frank
 lin Park Playstead between White Stadium and the back of the Zoo. Brou
 ght to you by Discover Roxbury & the Franklin Park Coalition. For more
  information and directions: www.franklinparkcoalition.org or 617-442-
 4141.\n\nFor more information visit http://neighborsforneighbors.org/e
 vents/franklin-park-kite-bike-festival
DTSTART:20120519T150000Z
DTEND:20120519T200000Z
CATEGORIES:festival
LOCATION:Franklin Park
WEBSITE:http://www.franklinparkcoalition.org
URL:http://www.franklinparkcoalition.org
CONTACT:617-442-4141
ORGANIZER:Franklin Park Coalition & Discover Roxbury
ATTACH;FMTTYPE="image/jpeg":http://storage.ning.com/topology/rest/1.0/
 file/get/2245145915?profile=original
ATTENDEE;ROLE=REQ-PARTICIPANT;PARTSTAT=ACCEPTED;RSVP=TRUE;CN="Christin
 e Poff":http://neighborsforneighbors.org/profile/ChristinePoff67
END:VEVENT
END:VCALENDAR
