BEGIN:VCALENDAR
PRODID:NingEventWidget-v1
VERSION:2.0
METHOD:PUBLISH
BEGIN:VEVENT
UID:1171189:Event:110664
DTSTAMP:20260421T203901Z
SUMMARY:Franklin Park Mile
DESCRIPTION:One-of-a-kind family-friendly race in Franklin Park for ru
 nners of all ages and experience levels. Entry bib is $10, youth ages 
 17 and under run for free – but should register to get a chip-timed 
 bib. Face painting, running gear swap, and bake sale. First heat start
 s at 2pm.\nMeet by the Franklin Park Playstead at White Stadium basket
 ball courts. Park by rear (Giraffe) entrance to the Zoo or take the Se
 aver Street bus # 28. Follow the music and the signs! Learn more and r
 egister at www.franklinparkmile.org or call 617-442-4141. \n\nFor mor
 e information visit http://neighborsforneighbors.org/events/franklin-p
 ark-mile-1
DTSTART:20141005T160000Z
DTEND:20141005T200000Z
CATEGORIES:community, outreach, fitness, race
LOCATION:Franklin Park Playstead at White Stadium basketball courts
WEBSITE:http://www.franklinparkcoalition.org
URL:http://www.franklinparkcoalition.org
CONTACT:617-442-4144
ORGANIZER;CN="Christine Poff":http://neighborsforneighbors.org/profile
 /ChristinePoff67
ATTACH;FMTTYPE="image/jpeg":http://storage.ning.com/topology/rest/1.0/
 file/get/2245142511?profile=original
ATTENDEE;ROLE=REQ-PARTICIPANT;PARTSTAT=ACCEPTED;RSVP=TRUE;CN="Christin
 e Poff":http://neighborsforneighbors.org/profile/ChristinePoff67
END:VEVENT
END:VCALENDAR
