BEGIN:VCALENDAR
PRODID:NingEventWidget-v1
VERSION:2.0
METHOD:PUBLISH
BEGIN:VEVENT
UID:1171189:Event:92026
DTSTAMP:20260421T215609Z
SUMMARY:Franklin Park Moves for Health - Halloween Family Fitness Fest
 ival - Sunday, October 28th 2-6pm
DESCRIPTION:Come bob for apples, have fun at exercise stations and obs
 tacle courses, and try health snacks. There'll be zumba and boot camp,
  fun games, and activities for all ages. Led by local fitness instruct
 or, Donna Cox of the Sarah D. Cox Family Fitness Foundation. Dress for
  the weather - outdoors next to the William Devine Golf Clubhouse - On
 e Circuit Drive, Dorchester. Indoors if steady rain. Buses #14, 16, 22
 , 28, 29, 45.  RSVP and questions: 617-442-4141 or rsvp@franklinpa
 rkcoalition.org\n\nFor more information visit http://neighborsforneigh
 bors.org/events/franklin-park-moves-for-health-halloween-family-fitnes
 s-festival
DTSTART:20121028T180000Z
DTEND:20121028T220000Z
CATEGORIES:exercise
LOCATION:Franklin Park at the William Devine Golf Clubhouse
WEBSITE:http://www.franklinparkcoalition.org
URL:http://www.franklinparkcoalition.org
CONTACT:617-442-4141
ORGANIZER;CN="Christine Poff":http://neighborsforneighbors.org/profile
 /ChristinePoff67
ATTACH;FMTTYPE="image/jpeg":
ATTENDEE;ROLE=REQ-PARTICIPANT;PARTSTAT=ACCEPTED;RSVP=TRUE;CN="Christin
 e Poff":http://neighborsforneighbors.org/profile/ChristinePoff67
END:VEVENT
END:VCALENDAR
