BEGIN:VCALENDAR
PRODID:NingEventWidget-v1
VERSION:2.0
METHOD:PUBLISH
BEGIN:VEVENT
UID:1171189:Event:113427
DTSTAMP:20260421T203946Z
SUMMARY:Franklin Park Olympics Meeting
DESCRIPTION:Franklin Park Olympics Meeting - Thursday, March 5th at 6:
 30 PM - Franklin Park Golf Clubhouse, One Circuit Drive, Dorchester, M
 A 02121.  Hear a presentation from Boston2024 about plans for Frankli
 n Park and ask questions.  Then engage with other park users in a dis
 cussion about what this means for the park and surrounding communities
 .\n\nFor more information visit http://neighborsforneighbors.org/event
 s/franklin-park-olympics-meeting
DTSTART:20150305T233000Z
DTEND:20150306T010000Z
CATEGORIES:discussion
LOCATION:Franklin Park Golf Clubhouse
WEBSITE:http://www.franklinparkcoalition.org
URL:http://www.franklinparkcoalition.org
CONTACT:617-442-4141
ORGANIZER;CN="Christine Poff":http://neighborsforneighbors.org/profile
 /ChristinePoff67
ATTACH;FMTTYPE="image/jpeg":http://storage.ning.com/topology/rest/1.0/
 file/get/2245142916?profile=original
ATTENDEE;ROLE=REQ-PARTICIPANT;PARTSTAT=ACCEPTED;RSVP=TRUE;CN="Christin
 e Poff":http://neighborsforneighbors.org/profile/ChristinePoff67
END:VEVENT
END:VCALENDAR
