BEGIN:VCALENDAR
PRODID:NingEventWidget-v1
VERSION:2.0
METHOD:PUBLISH
BEGIN:VEVENT
UID:1171189:Event:87027
DTSTAMP:20260421T200417Z
SUMMARY:Franklin Park Snow Festival
DESCRIPTION:Sign in at the Franklin Park Golf Clubhouse. Come sled, sn
 owshoe, build snowpeople, and track animal prints in the snow! If you 
 have cross country skis, a guided tour will begin at 1:30. Warm up wit
 h hot chocolate and board games in the clubhouse. Bring a sled if you 
 have one, we'll have plenty for those without. Wear warm clothes and m
 ittens! RSVP and Questions? www.franklinparkcoalition.org / 617-44
 2-4141.\n\n\n\nFor more information visit http://neighborsforneighbors
 .org/events/franklin-park-snow-festival-1
DTSTART:20120204T170000Z
DTEND:20120204T200000Z
CATEGORIES:festival
LOCATION:Franklin Park Golf Clubhouse
WEBSITE:http://www.franklinparkcoalition.org
URL:http://www.franklinparkcoalition.org
CONTACT:617-442-4141
ORGANIZER;CN="Christine Poff":http://neighborsforneighbors.org/profile
 /ChristinePoff67
ATTACH;FMTTYPE="image/jpeg":http://storage.ning.com/topology/rest/1.0/
 file/get/2245137325?profile=original
ATTENDEE;ROLE=REQ-PARTICIPANT;PARTSTAT=ACCEPTED;RSVP=TRUE;CN="Christin
 e Poff":http://neighborsforneighbors.org/profile/ChristinePoff67
END:VEVENT
END:VCALENDAR
