BEGIN:VCALENDAR
PRODID:NingEventWidget-v1
VERSION:2.0
METHOD:PUBLISH
BEGIN:VEVENT
UID:1171189:Event:106001
DTSTAMP:20260421T220923Z
SUMMARY:Franklin Park Snow Festival
DESCRIPTION:Keep your fingers crossed for lots of the fluffy white stu
 ff! Come sled, build snowpeople, track animal prints in the snow, try
  out snowshoes, or bring your own skis for a cross country park tour. 
 You can warm up indoors with hot chocolate and board games. \"Snow Da
 y\" - Saturday, February 22nd and we'll plan a winter hike in the wood
 s if there's no snow. All ages welcome! FREE. Dress warmly and bring 
 a sled if you have one, we'll have plenty to borrow for those without.
  Co-sponsored by the Boston Parks Department & Franklin Park Coalition
 .\n\nFor more information visit http://neighborsforneighbors.org/event
 s/franklin-park-snow-festival-2
DTSTART:20140208T180000Z
DTEND:20140208T210000Z
CATEGORIES:seasonal, festival
LOCATION:William J. Devine Golf Clubhouse
WEBSITE:http://www.franklinparkcoalition.org/event/snow-festival/
URL:http://www.franklinparkcoalition.org/event/snow-festival/
CONTACT:617-442-4141
ORGANIZER:Franklin Park Coalition
ATTACH;FMTTYPE="image/jpeg":
ATTENDEE;ROLE=REQ-PARTICIPANT;PARTSTAT=ACCEPTED;RSVP=TRUE;CN="Christin
 e Poff":http://neighborsforneighbors.org/profile/ChristinePoff67
END:VEVENT
END:VCALENDAR
