BEGIN:VCALENDAR
PRODID:NingEventWidget-v1
VERSION:2.0
METHOD:PUBLISH
BEGIN:VEVENT
UID:1171189:Event:64458
DTSTAMP:20260421T220923Z
SUMMARY:Franklin Park Snow Festival
DESCRIPTION:Franklin Park Snow Festival - Saturday, February 5th 1:00-
 4:00pm. Try out snowshoes, track animal prints in the snow with a nat
 uralist, build snow people, go sledding, or play board games and warm 
 up inside with hot chocolate. if you have cross country skis bring the
 m for a tour of the park (1:30pm). All ages welcome. Bring a sled if y
 ou have one, we'll have some to share. Snow dependent - keep your fing
 ers crossed! At the Franklin Park Golf Course, One Circuit Drive, Roxb
 ury. FREE. For more information and to RSVP call 617-442-4141 orwww.fr
 anklinparkcoalition.org\n\nFor more information visit http://neighbors
 forneighbors.org/events/franklin-park-snow-festival
DTSTART:20110205T180000Z
DTEND:20110205T210000Z
CATEGORIES:festival
LOCATION:Franklin Park Golf Club House
WEBSITE:http://www.franklinparkcoalition.org
URL:http://www.franklinparkcoalition.org
CONTACT:617-442-4141
ORGANIZER;CN="Christine Poff":http://neighborsforneighbors.org/profile
 /ChristinePoff67
ATTACH;FMTTYPE="image/jpeg":
ATTENDEE;ROLE=REQ-PARTICIPANT;PARTSTAT=ACCEPTED;RSVP=TRUE;CN="Christin
 e Poff":http://neighborsforneighbors.org/profile/ChristinePoff67
END:VEVENT
END:VCALENDAR
