BEGIN:VCALENDAR
PRODID:NingEventWidget-v1
VERSION:2.0
METHOD:PUBLISH
BEGIN:VEVENT
UID:1171189:Event:42174
DTSTAMP:20260421T233816Z
SUMMARY:Franklin Park Spring Clean-Up
DESCRIPTION:Rake leaves, pick up litter, clear invasives, restore trai
 ls, and spruce up entrances and playgrounds. Bring work gloves and a r
 ake, shovel or clippers if you have them. All ages and abilities welco
 me. Come with your neighborhood, church or youth group. To RSVP or ask
  questions, please email rsvp@franklinparkcoalition.org or call 617-44
 2-4141. Meet at Valley Gates Parking Lot midway along Circuit Drive, t
 he main road through the park.\n\nFor more information visit http://ne
 ighborsforneighbors.org/events/franklin-park-spring-cleanup
DTSTART:20100508T140000Z
DTEND:20100508T160000Z
CATEGORIES:volunteer
LOCATION:Franklin Park
WEBSITE:http://www.franklinparkcoalition.org/index.php?option=com_cont
 ent&view=article&id=3&Itemid=4
URL:http://www.franklinparkcoalition.org/index.php?option=com_content&
 view=article&id=3&Itemid=4
CONTACT:617-442-4141
ORGANIZER;CN="Christine Poff":http://neighborsforneighbors.org/profile
 /ChristinePoff67
ATTACH;FMTTYPE="image/jpeg":http://storage.ning.com/topology/rest/1.0/
 file/get/2245128639?profile=original
ATTENDEE;ROLE=REQ-PARTICIPANT;PARTSTAT=ACCEPTED;RSVP=TRUE;CN="Christin
 e Poff":http://neighborsforneighbors.org/profile/ChristinePoff67
END:VEVENT
END:VCALENDAR
