BEGIN:VCALENDAR
PRODID:NingEventWidget-v1
VERSION:2.0
METHOD:PUBLISH
BEGIN:VEVENT
UID:1171189:Event:106105
DTSTAMP:20260421T202125Z
SUMMARY:Franklin Park Tree Planting & Volunteer Day
DESCRIPTION:Come help plant young trees and clear invasives in the 200
 -acres of woodlands in Franklin Park, a forest oasis in the heart of t
 he city. Wear old clothes, bring work gloves if you have them, we’ll
  have plenty for those without. Meet at Valley Gates Parking Lot, midw
 ay along Franklin Park Road, Dorchester, MA 02121.\n\nFor more informa
 tion visit http://neighborsforneighbors.org/events/franklin-park-tree-
 planting-volunteer-day
DTSTART:20140426T140000Z
DTEND:20140426T160000Z
CATEGORIES:volunteer
LOCATION:Valley Gates Parking Lot
WEBSITE:http://www.franklinparkcoalition.org/event/spring-planting-vol
 unteer-day-2/
URL:http://www.franklinparkcoalition.org/event/spring-planting-volunte
 er-day-2/
CONTACT:617-442-4141
ORGANIZER:Franklin Park Coalition
ATTACH;FMTTYPE="image/jpeg":
ATTENDEE;ROLE=REQ-PARTICIPANT;PARTSTAT=ACCEPTED;RSVP=TRUE;CN="Christin
 e Poff":http://neighborsforneighbors.org/profile/ChristinePoff67
END:VEVENT
END:VCALENDAR
