BEGIN:VCALENDAR
PRODID:NingEventWidget-v1
VERSION:2.0
METHOD:PUBLISH
BEGIN:VEVENT
UID:1171189:Event:110325
DTSTAMP:20260421T214902Z
SUMMARY:Franklin Park Turkey Trot, 5K
DESCRIPTION:Run or walk off calories with your relatives, friends, and
  neighbors before you sit down to dinner! Chip-timed this year with fu
 n prizes for winners and best costume. Adults $25 / $30 day of race. K
 ids $10. Bib pick-up starts at 8am, Star-Spangled Banner and race at 9
 am. Proceeds benefit Franklin Park Coalition youth crew, Playhouse in 
 the Park concerts, and woodlands restoration.\nMeet at Franklin Park G
 olf Clubhouse, One Circuit Drive, Dorchester, MA 02121. For more infor
 mation: www.franklinparkcoalition.org / 617-442-4141.\n\nFor more info
 rmation visit http://neighborsforneighbors.org/events/franklin-park-tu
 rkey-trot-5k
DTSTART:20141127T140000Z
DTEND:20141127T170000Z
CATEGORIES:race, fundraiser
LOCATION:Franklin Park Golf Clubhouse
WEBSITE:http://www.franklinparkcoalition.org
URL:http://www.franklinparkcoalition.org
CONTACT:617-442-4141
ORGANIZER;CN="Christine Poff":http://neighborsforneighbors.org/profile
 /ChristinePoff67
ATTACH;FMTTYPE="image/jpeg":http://storage.ning.com/topology/rest/1.0/
 file/get/2245142630?profile=original
ATTENDEE;ROLE=REQ-PARTICIPANT;PARTSTAT=ACCEPTED;RSVP=TRUE;CN="Christin
 e Poff":http://neighborsforneighbors.org/profile/ChristinePoff67
END:VEVENT
END:VCALENDAR
