BEGIN:VCALENDAR
PRODID:NingEventWidget-v1
VERSION:2.0
METHOD:PUBLISH
BEGIN:VEVENT
UID:1171189:Event:87084
DTSTAMP:20260421T200237Z
SUMMARY:Franklin Park Winter Volunteer Day
DESCRIPTION:Believe it or not, there's important woodlands restoration
  work to be done during the coldest months! An invasive vine that wrap
 s itself around trees and kills them is easiest to cut in the winter. 
 Wear old clothes and layers, heavy cotton or wool is best, nylon will 
 snag on branches. If you have cold hands bring liners for under leathe
 r gloves. Meet at Valley Gates Parking Lot midway along the main park 
 road. RSVP and Questions? www.franklinparkcoalition.org / 617-442-
 4141.\n\nFor more information visit http://neighborsforneighbors.org/e
 vents/franklin-park-winter-volunteer-day
DTSTART:20120121T150000Z
DTEND:20120121T170000Z
CATEGORIES:volunteer, event
LOCATION:Valley Gates
WEBSITE:http://www.franklinparkcoalition.org
URL:http://www.franklinparkcoalition.org
CONTACT:617-442-4141
ORGANIZER:Franklin Park Coalition
ATTACH;FMTTYPE="image/jpeg":http://storage.ning.com/topology/rest/1.0/
 file/get/2245136617?profile=original
ATTENDEE;ROLE=REQ-PARTICIPANT;PARTSTAT=ACCEPTED;RSVP=TRUE;CN="Christin
 e Poff":http://neighborsforneighbors.org/profile/ChristinePoff67
END:VEVENT
END:VCALENDAR
