BEGIN:VCALENDAR
PRODID:NingEventWidget-v1
VERSION:2.0
METHOD:PUBLISH
BEGIN:VEVENT
UID:1171189:Event:62615
DTSTAMP:20260421T220757Z
SUMMARY:Frederik Law Olmsted: One Man Play by Gerry Wright
DESCRIPTION:One Man Play by Gerry Wright followed by Q&AGerry Wright h
 as researched, written and produced a one-man show honoring the life a
 ndwork of Frederick Law Olmsted, the father of landscape architecture.
  The play providesinsights into Olmsted's passionate vision as he play
 ed critical roles in the dynamics ofslavery as a writer, in public hea
 lth action as Executive Secretary of the U.S. SanitaryCommission in th
 e Civil War, and in conservation as the landscape architect for NewYor
 k City's Central Park, Boston's Emerald Necklace and more.A hundred ye
 ars after his death, America continues to be challenged with issues of
  socialjustice, health and conservation for which Olmsted was a most p
 ersevering, principledpioneer. The play will look at Olmsted’s visio
 n on sustainability as he integrated hismultiple careers and his aptit
 ude to partner with many different disciplines in orderto promote soci
 al justice, conservation and public health in his landscape designs.Fo
 llowing the play, Olmsted will answer questions and foster a group dis
 cussion aboutthe issues of social justice, conservation and public hea
 lth on the 19th century and now.Co-sponsored by: Friends of the Pond, 
 Community Caring Institute\n\nFor more information visit http://neighb
 orsforneighbors.org/events/frederik-law-olmsted-one-man
DTSTART:20110129T000000Z
DTEND:20110129T020000Z
CATEGORIES:"speaker/forum"
LOCATION:First Church UU Jamaica Plain
WEBSITE:http://www.jamaicaplainforum.org
URL:http://www.jamaicaplainforum.org
CONTACT:
ORGANIZER;CN="Liz W.":http://neighborsforneighbors.org/profile/LizW
ATTACH;FMTTYPE="image/jpeg":http://storage.ning.com/topology/rest/1.0/
 file/get/2245132279?profile=original
ATTENDEE;ROLE=REQ-PARTICIPANT;PARTSTAT=ACCEPTED;RSVP=TRUE;CN="CARMEN A
 LCIVAR":http://neighborsforneighbors.org/profile/CARMENALCIVAR
ATTENDEE;ROLE=REQ-PARTICIPANT;PARTSTAT=ACCEPTED;RSVP=TRUE;CN="Liz W.":
 http://neighborsforneighbors.org/profile/LizW
END:VEVENT
END:VCALENDAR
