BEGIN:VCALENDAR
PRODID:NingEventWidget-v1
VERSION:2.0
METHOD:PUBLISH
BEGIN:VEVENT
UID:1171189:Event:81489
DTSTAMP:20260422T025606Z
SUMMARY:Free Movie Screening: \"The Power of Community\"
DESCRIPTION:Join us for a potluck dinner and free movie event!\n \nAb
 out “The Power of Community”…\nWhen the Soviet Union collapsed i
 n 1990, Cuba’s economy went into a tailspin. With imports of oil cut
  by more than half – and food by 80 percent – people were desperat
 e. This film tells of the hardships and struggles as well as the commu
 nity and creativity of the Cuban people during this difficult time. C
 ubans share how they transitioned from a highly mechanized, industrial
  agricultural system to one using organic methods of farming and local
 , urban gardens. It is an unusual look into the Cuban culture during t
 his economic crisis, which they call “The Special Period.”\nThe fi
 lm opens with a short history of Peak Oil, a term for the time in our 
 history when world oil production will reach its all-time peak and beg
 in to decline forever. Cuba, the only country that has faced such a cr
 isis – the massive reduction of fossil fuels – is an example of op
 tions and hope. \nFree ScreeningTuesday, September 27, Potluck 6pm, S
 creening 6:30 – 7:30Roslindale Congregational Church, 25 Cummins Hig
 hway(Across from the Post-Office) \nSponsored by the Roslindale Econo
 mic Security Club \n \n\nFor more information visit http://neighbors
 forneighbors.org/events/free-movie-screening-the-power-of-community
DTSTART:20110927T223000Z
DTEND:20110928T010000Z
CATEGORIES:movie, screening
LOCATION:Roslindale Congregational Church
WEBSITE:
URL:
CONTACT:617.477.8630 x307
ORGANIZER;CN="Liz W.":http://neighborsforneighbors.org/profile/LizW
ATTACH;FMTTYPE="image/jpeg":http://storage.ning.com/topology/rest/1.0/
 file/get/2245135191?profile=original
ATTENDEE;ROLE=REQ-PARTICIPANT;PARTSTAT=ACCEPTED;RSVP=TRUE;CN="Liz W.":
 http://neighborsforneighbors.org/profile/LizW
END:VEVENT
END:VCALENDAR
