BEGIN:VCALENDAR
PRODID:NingEventWidget-v1
VERSION:2.0
METHOD:PUBLISH
BEGIN:VEVENT
UID:1171189:Event:40258
DTSTAMP:20260421T200416Z
SUMMARY:FREE TASTING: Best of New England Cheese
DESCRIPTION:Morgan Ward, City Feed's cheese monger, will be showcasing
  the best New England cheeses at the CENTRE st. store.\n\nCity Feed on
  Centre has some of the best Regional Cheeses around. Come taste and l
 earn more!\n\nFor more information visit http://neighborsforneighbors.
 org/events/free-tasting-best-of-new
DTSTART:20100417T150000Z
DTEND:20100417T180000Z
CATEGORIES:free, tasting
LOCATION:City Feed and Supply, on Centre Street
WEBSITE:http://www.cityfeedandsupply.com
URL:http://www.cityfeedandsupply.com
CONTACT:617-524-1700
ORGANIZER;CN="City Feed and Supply":http://neighborsforneighbors.org/p
 rofile/CityFeedandSupply
ATTACH;FMTTYPE="image/jpeg":
ATTENDEE;ROLE=REQ-PARTICIPANT;PARTSTAT=ACCEPTED;RSVP=TRUE;CN="City Fee
 d and Supply":http://neighborsforneighbors.org/profile/CityFeedandSupp
 ly
END:VEVENT
END:VCALENDAR
