BEGIN:VCALENDAR
PRODID:NingEventWidget-v1
VERSION:2.0
METHOD:PUBLISH
BEGIN:VEVENT
UID:1171189:Event:60769
DTSTAMP:20260421T230508Z
SUMMARY:Free Winter Riding Clinic
DESCRIPTION:Want to try winter commuting for the first time? Or just g
 et some advice on how to keep your bike in decent condition while ridi
 ng year-round? Join us for a free winter riding clinic with product de
 monstrations, helpful tips, and Q&A with experienced winter commuters.
 \n\nFor more information visit http://neighborsforneighbors.org/events
 /free-winter-riding-clinic
DTSTART:20110109T170000Z
DTEND:20110109T180000Z
CATEGORIES:workshop
LOCATION:Ferris Wheels Bike Shop
WEBSITE:http://www.ferriswheelsbikeshop.com
URL:http://www.ferriswheelsbikeshop.com
CONTACT:617-524-2453
ORGANIZER;CN="Ferris Wheels Bike Shop":http://neighborsforneighbors.or
 g/profile/FerrisWheelsBikeShop
ATTACH;FMTTYPE="image/jpeg":http://storage.ning.com/topology/rest/1.0/
 file/get/2245131779?profile=original
ATTENDEE;ROLE=REQ-PARTICIPANT;PARTSTAT=ACCEPTED;RSVP=TRUE;CN="Ferris W
 heels Bike Shop":http://neighborsforneighbors.org/profile/FerrisWheels
 BikeShop
END:VEVENT
END:VCALENDAR
