BEGIN:VCALENDAR
PRODID:NingEventWidget-v1
VERSION:2.0
METHOD:PUBLISH
BEGIN:VEVENT
UID:1171189:Event:68618
DTSTAMP:20260421T184118Z
SUMMARY:From AZ - MA: Our Struggle for Justice
DESCRIPTION: \nCome to support and learn about the immigrant rights' 
 struggle for justice:\n\nHow Arizona’s SB 1070 is impacting the immi
 grant community and violating basic human rights\nThe successes in def
 ending immigrant rights\nThe current struggles in Massachusetts and Bo
 ston\nHow you can provide support and take action\n\nSpecial Guest:  
 Carlos Garcia, Community Organizer Puente Arizona Carlos Garcia is a c
 ommunity organizer from Phoenix Arizona. For the last four years Carlo
 s has worked towards ending and educating about the constant human rig
 hts abuses of Sheriff Joe Arpaio, the 287(g) Agreements and Arizona's 
 series of anti-migrant laws. Working with the PUENTE movement and the 
 National Day Labor Organizing Network he has focused on using the exam
 ple of Maricopa County to inform the country of the atrocities in ICE 
 and Local Police collaboration.     Hosted by: JP Progressves, ¿Ois
 te?, Kalila Barnett, Neal Bastek, Kyle de Beausset, Jesus Gerena, Mari
 ama White-Hammond, Jeannette Huezo, Cris Lagunas, and Gloribell Mota. 
 Please join us!\n\nFor more information visit http://neighborsforneigh
 bors.org/events/from-az-ma-our-struggle-for
DTSTART:20110407T220000Z
DTEND:20110408T000000Z
CATEGORIES:forum
LOCATION:Doyles Cafe
WEBSITE:
URL:
CONTACT:
ORGANIZER:JP Progressives
ATTACH;FMTTYPE="image/jpeg":
ATTENDEE;ROLE=REQ-PARTICIPANT;PARTSTAT=ACCEPTED;RSVP=TRUE;CN="Melissa 
 Threadgill":http://neighborsforneighbors.org/profile/MelissaThreadgill
END:VEVENT
END:VCALENDAR
