BEGIN:VCALENDAR
PRODID:NingEventWidget-v1
VERSION:2.0
METHOD:PUBLISH
BEGIN:VEVENT
UID:1171189:Event:50282
DTSTAMP:20260421T212453Z
SUMMARY:Fruit Tree Planting Workshop
DESCRIPTION:Join Pueblo Boston and Egleston Square residents this Satu
 rday to \"Take Back the Lot\" from 10am - 3pm.\n\nHelp convert this ne
 glected piece of land into a beautiful community green space. This is 
 the third workday in six weeks, which means we're well on our way to s
 upporting equal access to food for all!\n\nIn addition to revamping th
 e lot, we're hosting a fruit tree planting workshop from 10-12. We'll 
 be transplanting some donated heritage apple trees, along with raspber
 ry bushes.\n\nHope to see you soon!\n\nFor more information visit http
 ://neighborsforneighbors.org/events/fruit-tree-planting-workshop
DTSTART:20100807T140000Z
DTEND:20100807T160000Z
CATEGORIES:workshop
LOCATION:Boylston Community Garden
WEBSITE:http://puebloboston.org/
URL:http://puebloboston.org/
CONTACT:
ORGANIZER;CN="Melissa Moore":http://neighborsforneighbors.org/profile/
 MelissaMoore
ATTACH;FMTTYPE="image/jpeg":http://storage.ning.com/topology/rest/1.0/
 file/get/2245130257?profile=original
ATTENDEE;ROLE=REQ-PARTICIPANT;PARTSTAT=ACCEPTED;RSVP=TRUE;CN="Melissa 
 Moore":http://neighborsforneighbors.org/profile/MelissaMoore
END:VEVENT
END:VCALENDAR
