BEGIN:VCALENDAR
PRODID:NingEventWidget-v1
VERSION:2.0
METHOD:PUBLISH
BEGIN:VEVENT
UID:1171189:Event:94160
DTSTAMP:20260421T200851Z
SUMMARY:Fruits of the Sea Celebration at Egleston Farmers Market
DESCRIPTION:We are thrilled to be hosting the event  ”Celebrate th
 e Fruits of Our Ocean” this week at the Egleston Farmers Market.  
 This market event is a part of a broader promotional campaign by NAMA
 , BCFF and Health Care Without Harm, discussing the importance of s
 upporting sustainable fishing practices, the health benefits of eating
  fish, and also promoting farmers markets (such as ours!) that sell lo
 cally caught, fresh fish. \nWe are lucky to have Red’s Best at ou
 r market this season as a a part of the City’s farmers market fish 
 pilot program.  Red’s Best is a leader in the support of local fis
 heries, and have been able to bring you fresh fish, caught in sustaina
 ble ways, by local fishermen.  Red’s Best is a local leader in this
  effort and, in addition to vending at the market (as they do every we
 ek), this week as a part of our event, they will be doing a fish filet
  demonstration.\nOf course, the main event will be the Fish Throw Do
 wn – a cooking competition between Mei Mei Street Kitchen’s (Ire
 ne Li) and Tres Gatos’ Marcos Sanchez. They will shop at the marke
 t then cook for a panel of judges that include: David Warner of City 
 Feed, Jared Auerbach (CEO of Red’s Best), Representative Liz Malia
 , Justin Dunk from Ula Cafe, Harry Perez from Plaza Meat Market, and 
 one of our Market Youth Ambassadors!  The emcee for the fish event wi
 ll be Councilor Felix Arroyo, who is sure to keep the momentum going t
 hroughout the day!  Market attendees will have a chance to taste the 
 fare – but slots are limited so get there early to sign up.\nComplim
 entary Coffee Corner is sponsored by Ula CafeFood Truck: who else, M
 ei Mei Street Kitchen!Kid’s Corner: educational crafts focused on su
 stainable fishing and fish sponsored by Health Care Without HarmMusi
 c: Nine Pound Pick Axe – blue grass fiddle courtesy of Laura Smith\n
 See the link below for a full list of vendors this week\n\nFor more in
 formation visit http://neighborsforneighbors.org/events/fruits-of-the-
 sea-celebration-at-egleston-farmers-market
DTSTART:20130216T160000Z
DTEND:20130216T190000Z
CATEGORIES:farmers, market
LOCATION:Our Lady of Lourdes Parish Center
WEBSITE:http://eglestonfarmersmarket.org/
URL:http://eglestonfarmersmarket.org/
CONTACT:
ORGANIZER;CN="Mike Steinhoff":http://neighborsforneighbors.org/profile
 /MikeSteinhoff
ATTACH;FMTTYPE="image/jpeg":
ATTENDEE;ROLE=REQ-PARTICIPANT;PARTSTAT=ACCEPTED;RSVP=TRUE;CN="Mike Ste
 inhoff":http://neighborsforneighbors.org/profile/MikeSteinhoff
END:VEVENT
END:VCALENDAR
