BEGIN:VCALENDAR
PRODID:NingEventWidget-v1
VERSION:2.0
METHOD:PUBLISH
BEGIN:VEVENT
UID:1171189:Event:26911
DTSTAMP:20260421T232117Z
SUMMARY:Fundraiser for Sam Yoon for Mayor
DESCRIPTION:Join your JP neighbors to build support for Sam Yoon for M
 ayor.\n\nThere is no minimum donation required so if you want to learn
  more about Sam feel free to join us.\n\nFor more information visit ht
 tp://neighborsforneighbors.org/events/fundraiser-for-sam-yoon-for
DTSTART:20090812T230000Z
DTEND:20090814T010000Z
CATEGORIES:fundraiser
LOCATION:Doyle's Cafe, back room
WEBSITE:http://maps.google.com/maps?f=q&source=s_q&hl=en&geocode=&q=34
 84+Washington+St,+Jamaica+Plain,+MA+02130&sll=37.0625,-95.677068&sspn=
 33.435463,79.013672&ie=UTF8&ll=42.307467,-71.107228&spn=0.007617,0.019
 29&z=16&iwloc=A
URL:http://maps.google.com/maps?f=q&source=s_q&hl=en&geocode=&q=3484+W
 ashington+St,+Jamaica+Plain,+MA+02130&sll=37.0625,-95.677068&sspn=33.4
 35463,79.013672&ie=UTF8&ll=42.307467,-71.107228&spn=0.007617,0.01929&z
 =16&iwloc=A
CONTACT:617-825-0309
ORGANIZER;CN="Jessica Taubner":http://neighborsforneighbors.org/profil
 e/JessicaTaubner
ATTACH;FMTTYPE="image/jpeg":http://storage.ning.com/topology/rest/1.0/
 file/get/2245118145?profile=original
ATTENDEE;ROLE=REQ-PARTICIPANT;PARTSTAT=ACCEPTED;RSVP=TRUE;CN="Jessica 
 Taubner":http://neighborsforneighbors.org/profile/JessicaTaubner
END:VEVENT
END:VCALENDAR
