BEGIN:VCALENDAR
PRODID:NingEventWidget-v1
VERSION:2.0
METHOD:PUBLISH
BEGIN:VEVENT
UID:1171189:Event:89435
DTSTAMP:20260421T214629Z
SUMMARY:Games for Justice
DESCRIPTION:Need a break from the stress of work, the economy, and eve
 ryday life? Looking for something to do that is fun, free, and progres
 sive? Join us for Games for Justice at Andala Cafe! Arrive by yourself
  or bring a friend.RSVP at http://www.sojust.org/events/56278592/.  C
 ost: $2 Donation at the door.Scrabble, Boggle, Apples to Apples, Scatt
 egories - what's your favorite board game? Bring it!Look no further if
  you're seeking like-minded folks to game with, want to cross-promote 
 your events and campaigns while you Boggle, or are new to the area and
  looking for groups to get involved in. If you want to build a strong 
 cross-issue social justice movement, SoJust is for you!Haven't been to
  Andala Cafe? The food is delicious! Check out their menu (http://www.
 andalacafe.com/menu.php) filled with vegetarian and vegan options. And
 ala Cafe is located in Central Square - here's a map: http://www.andal
 acafe.com/map.phpJoin us if you want to cross-promote your events and 
 campaigns while enjoying great cocktails, are new to the area and look
 ing for groups to get involved in, or you've been looking for like-min
 ded progressive to hang with in Boston. Newcomers always welcomed!HELP
  SPREAD THE WORD!Join the SoJust Facebook group: http://on.fb.me/SoJus
 tOn Twitter? Follow @SoJust (http://www.twitter.com/sojust), SoJust's 
 Co-Founder @RobbieSamuels (http://www.twitter.com/robbiesamuels) and o
 ur Assistant Organizer @KatyaM11 https://twitter.com/KatyaM11. Don’t
  forget to tweet about this event using #sojust!SOCIALIZING FOR JUSTIC
 E - http://www.sojust.orgSoJust is all about building a cross-cultural
 , cross-issue progressive community, network and movement in Boston ba
 sed on the philosophy of abundance. We're doing it by putting the SOCI
 AL back in SOCIAL JUSTICE. We focus on creating welcoming spaces that 
 foster relationship-building across issue silos.With 2000 members and 
 5 1/2 years of creating a diverse cross-issue community in Boston (115
 + events!), Socializing for Justice is the best place to find the grea
 t people, organizations and community you're looking for while putting
  the SOCIAL back in social justice.YES, WE MEAN YOU. We've got members
  of all ages, races, genders, sexual orientations, levels of activism 
 and professions. We hope you see someone like yourself and meet someon
 e you otherwise wouldn't have.Want to know more about SoJust? Check ou
 t our Frequently Asked Questions- http://www.sojust.org/messages/board
 s/thread/3187615- and past event photos- http://www.sojust.org/photos/
 !\n\n\nFor more information visit http://neighborsforneighbors.org/eve
 nts/games-for-justice-1
DTSTART:20120425T220000Z
DTEND:20120426T010000Z
CATEGORIES:networking, social
LOCATION:Andala Coffee House
WEBSITE:http://www.sojust.org
URL:http://www.sojust.org
CONTACT:
ORGANIZER;CN="Socializing for Justice":http://neighborsforneighbors.or
 g/profile/SocializingforJustice71
ATTACH;FMTTYPE="image/jpeg":http://storage.ning.com/topology/rest/1.0/
 file/get/2245138156?profile=original
ATTENDEE;ROLE=REQ-PARTICIPANT;PARTSTAT=ACCEPTED;RSVP=TRUE;CN="Socializ
 ing for Justice":http://neighborsforneighbors.org/profile/Socializingf
 orJustice71
END:VEVENT
END:VCALENDAR
