BEGIN:VCALENDAR
PRODID:NingEventWidget-v1
VERSION:2.0
METHOD:PUBLISH
BEGIN:VEVENT
UID:1171189:Event:94413
DTSTAMP:20260421T233815Z
SUMMARY:Games for Justice
DESCRIPTION:Need a break from the stress of work, the economy, and eve
 ryday life? Looking for something to do that is fun, free, and progres
 sive? Join us for Games for Justice at Andala Cafe! Arrive by yourself
  or bring a friend.RSVP at http://www.sojust.org - Newcomers always we
 lcomed!Fee $2 per person + $10 for foodScrabble, Boggle, Apples to App
 les, Scattegories - what's your favorite board game? Bring it!Look no 
 further if you're seeking like-minded folks to game with, want to cros
 s-promote your events and campaigns while you Boggle, or are new to th
 e area and looking for groups to join. If you want to build a strong c
 ross-issue social justice movement, SoJust is for you!HEY ORGANIZERS! 
 If you're involved with a group or project and want to spread the word
  bring flyers - there will be lots of opportunity to schmooze and netw
 ork!Haven't been to Andala Cafe? The food is delicious! Check out thei
 r menu (http://www.andalacafe.com/menu.php) filled with vegetarian and
  vegan options.Each attendee is asked to purchase a minimum of $10 in 
 yummy food - or SoJust will have to pay the difference to the venue.An
 dala Cafe is located in Central Square - here's a map: http://www.anda
 lacafe.com/map.phpSOCIALIZING FOR JUSTICE - http://www.sojust.orgSoJus
 t is all about building a cross-cultural, cross-issue progressive comm
 unity, network and movement in Boston based on the philosophy of abund
 ance. We're doing it by putting the SOCIAL back in SOCIAL JUSTICE. We 
 focus on creating welcoming spaces that foster relationship-building a
 cross issue silos.With over 2250 members and 6+ years of creating a di
 verse cross-issue community in Boston (150 events!), Socializing for J
 ustice is the best place to find the great people, organizations and c
 ommunity you're looking for while putting the SOCIAL back in social ju
 stice.YES, WE MEAN YOU. We've got members of all ages, races, genders,
  sexual orientations, levels of activism and professions. We hope you 
 see someone like yourself and meet someone you otherwise wouldn't have
 .Want to know more about SoJust? Check out our Frequently Asked Questi
 ons- http://www.sojust.org/messages/boards/thread/3187615- and past ev
 ent photos- http://www.sojust.org/photos/!\n\nFor more information vis
 it http://neighborsforneighbors.org/events/games-for-justice-2
DTSTART:20130323T180000Z
DTEND:20130323T210000Z
CATEGORIES:social
LOCATION:Andala Cafe
WEBSITE:
URL:
CONTACT:
ORGANIZER;CN="Socializing for Justice":http://neighborsforneighbors.or
 g/profile/SocializingforJustice71
ATTACH;FMTTYPE="image/jpeg":http://storage.ning.com/topology/rest/1.0/
 file/get/2245140483?profile=original
ATTENDEE;ROLE=REQ-PARTICIPANT;PARTSTAT=ACCEPTED;RSVP=TRUE;CN="Socializ
 ing for Justice":http://neighborsforneighbors.org/profile/Socializingf
 orJustice71
END:VEVENT
END:VCALENDAR
