BEGIN:VCALENDAR
PRODID:NingEventWidget-v1
VERSION:2.0
METHOD:PUBLISH
BEGIN:VEVENT
UID:1171189:Event:91326
DTSTAMP:20260422T064505Z
SUMMARY:Gardner's Regiment at Loring Greenough House
DESCRIPTION:Gardner's Regiment is Boston's only 18th  Century Militia
  Reenactment group. Gardner's fought at the Battle of Bunker Hill and 
 later became a unit of Washington's Army. Come visit us and learn abou
 t our Colonial Heritage at Loring Greenough House, 12 South Street, o
 n Saturday September 15 from 10 AM to 4 PM\n\nFor more information vis
 it http://neighborsforneighbors.org/events/gardner-s-regiment-at-lorin
 g-greenough-house
DTSTART:20120915T040000Z
DTEND:20120916T035900Z
CATEGORIES:colonial, militia, encampment
LOCATION:Loring Greenough House
WEBSITE:http://www.Charlestownmilitia.org
URL:http://www.Charlestownmilitia.org
CONTACT:617-669-8512
ORGANIZER;CN="Ed Roche":http://neighborsforneighbors.org/profile/EdRoc
 he
ATTACH;FMTTYPE="image/jpeg":http://storage.ning.com/topology/rest/1.0/
 file/get/2245140567?profile=original
ATTENDEE;ROLE=REQ-PARTICIPANT;PARTSTAT=ACCEPTED;RSVP=TRUE;CN="Ed Roche
 ":http://neighborsforneighbors.org/profile/EdRoche
END:VEVENT
END:VCALENDAR
