BEGIN:VCALENDAR
PRODID:NingEventWidget-v1
VERSION:2.0
METHOD:PUBLISH
BEGIN:VEVENT
UID:1171189:Event:36431
DTSTAMP:20260421T203901Z
SUMMARY:Gateway to the Arborway - Next DCR Partnership Matching Funds 
 Grant
DESCRIPTION:Gateway to the Arborway - Next DCR Partnership Matching Fu
 nds Grant -\nExtend the fence – it’s only half done!\nWhen the fen
 ce is complete, new tree and shrub planting can begin!\nThis will also
  help to stop the crossover traffic, tree loss and other damage.\nThe 
 state will match every $1.00 we raise with $2.00.\nOur share is $24.00
  per foot – how many feet can you sponsor?\nAll donations are tax-de
 ductible!\nPlease make checks payable to “Jamaica Pond Project” an
 d put “Arborway Fence” on the memo line.\nDeadline is March 26.\n\
 nMail donations to: Sarah Freeman, 22 Arborway, JP, MA 02130.\nFor mor
 e information, call Sarah Freeman at 617-524-0602 or Ann Stillman at 6
 17-524-2387. This project is an ongoing collaboration of local residen
 ts, 18 neighborhood associations, institutions, and park friends group
 s coordinated by Arborway Coalition and Jamaica Pond Project. THANK YO
 U IN ADVANCE TO ALL!\n\nFor more information visit http://neighborsfor
 neighbors.org/events/gateway-to-the-arborway-next
DTSTART:20100301T230000Z
DTEND:20100325T230000Z
CATEGORIES:"fundraiser!"
LOCATION:Arborway Fence
WEBSITE:
URL:
CONTACT:617-524-0602
ORGANIZER:Sarah Freeman, 22 Arborway, JP, MA 02130
ATTACH;FMTTYPE="image/jpeg":http://storage.ning.com/topology/rest/1.0/
 file/get/2245123946?profile=original
ATTENDEE;ROLE=REQ-PARTICIPANT;PARTSTAT=ACCEPTED;RSVP=TRUE;CN="Ferris W
 heels Bike Shop":http://neighborsforneighbors.org/profile/FerrisWheels
 BikeShop
ATTENDEE;ROLE=REQ-PARTICIPANT;PARTSTAT=ACCEPTED;RSVP=TRUE;CN="Colleen 
 Keller":http://neighborsforneighbors.org/profile/ColleenKeller
END:VEVENT
END:VCALENDAR
