BEGIN:VCALENDAR
PRODID:NingEventWidget-v1
VERSION:2.0
METHOD:PUBLISH
BEGIN:VEVENT
UID:1171189:Event:87654
DTSTAMP:20260421T182238Z
SUMMARY:Get Fit at Franklin Park
DESCRIPTION: \nSaturdays in February 2012 11:00 am - 1:00 pm\nMeet at
  Franklin Park Golf Clubhouse (Circuit Dr.)\nExplore the links between
  Frederick Law Olmsted’s design philosophy and the practice of Amrit
  yoga. Fitness walk in Landscape, Yoga class in Clubhouse. Open to tho
 se new to Olmsted or Yoga.\nFor more info: www.nps.gov/frla or www.fr
 anklinparkcoalition.org\nRSVP required!\nCall 617-396-7918 or RSVP on 
 facebook at facebook.com/Franklinparkbos\n\nFor more information visit
  http://neighborsforneighbors.org/events/get-fit-at-franklin-park
DTSTART:20120204T160000Z
DTEND:20120225T180000Z
CATEGORIES:health, and, wellness
LOCATION:Franklin Park Golf Clubhouse
WEBSITE:http://www.franklinparkcoalition.org
URL:http://www.franklinparkcoalition.org
CONTACT:617-396-7918
ORGANIZER;CN="Christine Poff":http://neighborsforneighbors.org/profile
 /ChristinePoff67
ATTACH;FMTTYPE="image/jpeg":http://storage.ning.com/topology/rest/1.0/
 file/get/2245141425?profile=original
ATTENDEE;ROLE=REQ-PARTICIPANT;PARTSTAT=ACCEPTED;RSVP=TRUE;CN="Christin
 e Poff":http://neighborsforneighbors.org/profile/ChristinePoff67
END:VEVENT
END:VCALENDAR
