BEGIN:VCALENDAR
PRODID:NingEventWidget-v1
VERSION:2.0
METHOD:PUBLISH
BEGIN:VEVENT
UID:1171189:Event:42406
DTSTAMP:20260421T212912Z
SUMMARY:Get To Know Your Bike
DESCRIPTION:We'll review the basics of how your bike works to help you
  become a more confident cyclist. This lecture-format class is free.\n
 \nFor more information visit http://neighborsforneighbors.org/events/g
 et-to-know-your-bike-1
DTSTART:20100506T231500Z
DTEND:20100507T010000Z
CATEGORIES:free, talk
LOCATION:Ferris Wheels Bike Shop
WEBSITE:http://www.ferriswheelsbikeshop.com
URL:http://www.ferriswheelsbikeshop.com
CONTACT:617-524-2453
ORGANIZER;CN="Ferris Wheels Bike Shop":http://neighborsforneighbors.or
 g/profile/FerrisWheelsBikeShop
ATTACH;FMTTYPE="image/jpeg":http://storage.ning.com/topology/rest/1.0/
 file/get/2245127347?profile=original
ATTENDEE;ROLE=REQ-PARTICIPANT;PARTSTAT=ACCEPTED;RSVP=TRUE;CN="Ferris W
 heels Bike Shop":http://neighborsforneighbors.org/profile/FerrisWheels
 BikeShop
END:VEVENT
END:VCALENDAR
