BEGIN:VCALENDAR
PRODID:NingEventWidget-v1
VERSION:2.0
METHOD:PUBLISH
BEGIN:VEVENT
UID:1171189:Event:39221
DTSTAMP:20260419T093250Z
SUMMARY:Get To Know Your Bike
DESCRIPTION:We'll review the basics of how your bike works to help you
  become a more confident cyclist.\n\nFor more information visit http:/
 /neighborsforneighbors.org/events/get-to-know-your-bike
DTSTART:20100401T231500Z
DTEND:20100402T001500Z
CATEGORIES:"free lecture"
LOCATION:Ferris Wheels Bike Shop
WEBSITE:http://www.ferriswheelsbikeshop.com
URL:http://www.ferriswheelsbikeshop.com
CONTACT:617-524-2453
ORGANIZER;CN="Ferris Wheels Bike Shop":http://neighborsforneighbors.or
 g/profile/FerrisWheelsBikeShop
ATTACH;FMTTYPE="image/jpeg":
ATTENDEE;ROLE=REQ-PARTICIPANT;PARTSTAT=ACCEPTED;RSVP=TRUE;CN="Ferris W
 heels Bike Shop":http://neighborsforneighbors.org/profile/FerrisWheels
 BikeShop
END:VEVENT
END:VCALENDAR
