BEGIN:VCALENDAR
PRODID:NingEventWidget-v1
VERSION:2.0
METHOD:PUBLISH
BEGIN:VEVENT
UID:1171189:Event:68758
DTSTAMP:20260421T185842Z
SUMMARY:Getting Organized As Spiritual Practice
DESCRIPTION:We all need to attend to our \"stuff!\" Please forward thi
 s message widely. Getting Organized as Spiritual Practice with Pam Kri
 stanSat April 9 10am – 4pmTheosophical Society 21 Maple St Arlington
 $80, Pre-register by 4/5Detachment, living in the body, bearing mortal
 ity, finding value -- these are spiritual lessons getting organized ca
 n teach. In this experiential workshop you’ll cultivate clarity and 
 fortitude to take a stand in the face of the avalanche of stuff, spark
 ing insights and giving you hands-on practice.You’ll come away with 
 the seed of an organization system perfectly suited to your own situat
 ion, tools to nurture it, and applications to your spiritual life. Bri
 ng an inch of unsorted papers and a bag of stuff you might be ready to
  let go. Contact Pam, pam@pamelakristan.com, 617-522-4956 begin_of_the
 _skype_highlighting              617-522-4956      end_of_the_skype_hi
 ghlighting to pre-register by April 5. Information and directions at h
 ttp://www.tsboston.org/ 781-548-0101 begin_of_the_skype_highlighting  
             781-548-0101      end_of_the_skype_highlighting.Pam Krista
 n, author of The Spirit of Getting Organized: 12 Skills To Find Meanin
 g & Power In Your Stuff, and Awakening In Time: Practical Time Managem
 ent For Those On a Spiritual Path has been offering retreats, workshop
 s, and consultations in spiritually-oriented time- and stuff-managemen
 t since 1985 (www.pamelakristan.com). \n\nFor more information visit h
 ttp://neighborsforneighbors.org/events/getting-organized-as-spiritual
DTSTART:20110409T140000Z
DTEND:20110409T200000Z
CATEGORIES:all-day, workshop
LOCATION:Theosophical Society Arlington
WEBSITE:
URL:
CONTACT:
ORGANIZER;CN="Pam Kristan":http://neighborsforneighbors.org/profile/Pa
 mKristan9
ATTACH;FMTTYPE="image/jpeg":
ATTENDEE;ROLE=REQ-PARTICIPANT;PARTSTAT=ACCEPTED;RSVP=TRUE;CN="Pam Kris
 tan":http://neighborsforneighbors.org/profile/PamKristan9
END:VEVENT
END:VCALENDAR
