BEGIN:VCALENDAR
PRODID:NingEventWidget-v1
VERSION:2.0
METHOD:PUBLISH
BEGIN:VEVENT
UID:1171189:Event:49603
DTSTAMP:20260421T165827Z
SUMMARY:GLASS SHOW
DESCRIPTION:the hallway gallery is one of Boston's newest art spaces, 
 with an emphasis on local fine art. For the month of August we will be
  featuring work by a small group of local glass artists. Some of our f
 eatured artists are at the beginning of their careers, others are more
  seasoned veterans, each has their own unique voice and relationship w
 ith the medium.\n\nAUGUST 5th--AUGUST 29th\n\nFor more information vis
 it http://neighborsforneighbors.org/events/glass-show
DTSTART:20100805T220000Z
DTEND:20100806T010000Z
CATEGORIES:opening, reception
LOCATION:the hallway gallery
WEBSITE:http://www.thehallwayjp.com
URL:http://www.thehallwayjp.com
CONTACT:617-818-5996
ORGANIZER;CN="Brent Refsland":http://neighborsforneighbors.org/profile
 /BrentRefsland
ATTACH;FMTTYPE="image/jpeg":http://storage.ning.com/topology/rest/1.0/
 file/get/2245130564?profile=original
ATTENDEE;ROLE=REQ-PARTICIPANT;PARTSTAT=ACCEPTED;RSVP=TRUE;CN="Brent Re
 fsland":http://neighborsforneighbors.org/profile/BrentRefsland
END:VEVENT
END:VCALENDAR
