BEGIN:VCALENDAR
PRODID:NingEventWidget-v1
VERSION:2.0
METHOD:PUBLISH
BEGIN:VEVENT
UID:1171189:Event:81766
DTSTAMP:20260422T025233Z
SUMMARY:Great American Songbook opens 12th season
DESCRIPTION:NEW LOCATION---\nThe Boston-based jazz trio BOSTON IMPROMP
 TU opens the 12th season of the Sunday Afternoon at the ‘Greenough H
 ouse Parlor Concert Series, with music from “The Great American Song
 book,” on Sunday, October 2, 2011, at 3:00 p.m. at Uforge Gallery, 7
 67 Centre Street, Jamaica Plain                      
   Afternoon tea follows the programTickets are available at the door:
  donation $15 ($10 seniors, students). Reservations suggested—call 6
 17-524-3158 or email lghouseconcerts@aim.com.\n\nFor more information 
 visit http://neighborsforneighbors.org/events/great-american-songbook-
 opens-12th-season
DTSTART:20111002T190000Z
DTEND:20111002T210000Z
CATEGORIES:parlor, concert, and, tea
LOCATION:UFORGE Gallery,
WEBSITE:http://www.Loring-Greenough.org
URL:http://www.Loring-Greenough.org
CONTACT:617-524-3158
ORGANIZER;CN="Loring-Greenough House Concerts":http://neighborsforneig
 hbors.org/profile/LoringGreenoughHouseConserts
ATTACH;FMTTYPE="image/jpeg":
ATTENDEE;ROLE=REQ-PARTICIPANT;PARTSTAT=ACCEPTED;RSVP=TRUE;CN="Loring-G
 reenough House Concerts":http://neighborsforneighbors.org/profile/Lori
 ngGreenoughHouseConserts
END:VEVENT
END:VCALENDAR
