BEGIN:VCALENDAR
PRODID:NingEventWidget-v1
VERSION:2.0
METHOD:PUBLISH
BEGIN:VEVENT
UID:1171189:Event:88802
DTSTAMP:20260421T172420Z
SUMMARY:Great Day for the Irish: everyone’s favorite Irish songs
DESCRIPTION:In observance of Irish Heritage Month, when we all are “
 honorary Irish,” singer Ruth Harcovitz will perform many Irish music
 al favorites, including well-known ballads of Thomas Moore, songs made
  famous by John McCormack, and a special Irish sing-along.Free and ope
 n to everyone, with a reception following. Soprano Ruth Harcovitz is w
 ell known throughout the region for her charm, beautiful voice, and wa
 rm personality. She has appeared as soloist with various opera compani
 es, orchestras, and choral groups in the US and abroad. A New England 
 Conservatory graduate, Harcovitz’s credentials include graduate stud
 ies at the Vienna Academy of Music. Upon her return to the US, she was
  engaged by the Santa Fe Opera, The Opera Company of Boston, and Opera
  New England. She is the recipient of hundreds of local cultural counc
 il grants. For more information, visit www.RuthHarcovitz.com. \n\nFor 
 more information visit http://neighborsforneighbors.org/events/great-d
 ay-for-the-irish-everyone-s-favorite-irish-songs
DTSTART:20120315T233000Z
DTEND:20120316T013000Z
CATEGORIES:"music:", honoring, irish, heritage, month
LOCATION:Charlestown Branch Library
WEBSITE:http://www.bpl.org/branches/charlestown.htm.
URL:http://www.bpl.org/branches/charlestown.htm.
CONTACT:617-242-1248
ORGANIZER:Friends of the Charlestown Branch Library
ATTACH;FMTTYPE="image/jpeg":http://storage.ning.com/topology/rest/1.0/
 file/get/2245140186?profile=original
ATTENDEE;ROLE=REQ-PARTICIPANT;PARTSTAT=ACCEPTED;RSVP=TRUE;CN="Mary Cur
 tin":http://neighborsforneighbors.org/profile/MaryCurtin
END:VEVENT
END:VCALENDAR
