BEGIN:VCALENDAR
PRODID:NingEventWidget-v1
VERSION:2.0
METHOD:PUBLISH
BEGIN:VEVENT
UID:1171189:Event:82385
DTSTAMP:20260422T063102Z
SUMMARY:Green Buildings Open House
DESCRIPTION:From Boston Climate Action Network:\n\"Get ready to be ins
 pired as you view clean, renewable energy at work first-hand on Saturd
 ay, October 1! The Northeast Sustainable Energy Association (NESEA) in
 vites you to visit sustainable, green homes and buildings throughout N
 ew England, including right here in Boston. Last year more than 10,000
  people participated in close to 500 tours. See how your neighbors are
  reducing their carbon footprint and cutting their energy bills throug
 h the power of the sun, wind, smart building design, and energy effici
 ent appliances and technologies.\"\n \nJP Open House sites include:- 
 12 St John (10 am-2 pm)- 133 Bourne (12 pm-5 pm)- 61 Hampstead #2- 18 
 Beethoven (10 am-2 pm)- 100 Terrace (10 am-2 pm)To learn more about th
 ese and other Green Buildings Open House sites near you, visit http://
 www.nesea.org/greenbuildings .\n\nFor more information visit http://ne
 ighborsforneighbors.org/events/green-buildings-open-house
DTSTART:20111001T140000Z
DTEND:20111001T210000Z
CATEGORIES:house, tour
LOCATION:Jamaica Plain
WEBSITE:http://www.nesea.org/greenbuildings
URL:http://www.nesea.org/greenbuildings
CONTACT:
ORGANIZER:NESEA (Northeast Sustainable Energy Association), locations 
 compiled by Boston Climate Action Network
ATTACH;FMTTYPE="image/jpeg":http://storage.ning.com/topology/rest/1.0/
 file/get/2245136018?profile=original
ATTENDEE;ROLE=REQ-PARTICIPANT;PARTSTAT=ACCEPTED;RSVP=TRUE;CN="Stacey C
 ordeiro":http://neighborsforneighbors.org/profile/StaceyCordeiro
END:VEVENT
END:VCALENDAR
