BEGIN:VCALENDAR
PRODID:NingEventWidget-v1
VERSION:2.0
METHOD:PUBLISH
BEGIN:VEVENT
UID:1171189:Event:82398
DTSTAMP:20260422T010835Z
SUMMARY:Guitar Circle Sundays
DESCRIPTION:Continuing our weekly free music series. The Guitar Circle
  New England invites you to bring a friend, relax with some (complimen
 tary) tea or coffee, and enjoy some invigorating music from inside a c
 ircle of acoustic guitar players.\n\nFor more information visit http:/
 /neighborsforneighbors.org/events/guitar-circle-sundays
DTSTART:20111002T233000Z
DTEND:20111003T010000Z
CATEGORIES:music
LOCATION:Spontaneous Celebrations, Danforth Street
WEBSITE:
URL:
CONTACT:
ORGANIZER;CN="Guitar Circle New England":http://neighborsforneighbors.
 org/profile/GuitarCircleNewEngland
ATTACH;FMTTYPE="image/jpeg":http://storage.ning.com/topology/rest/1.0/
 file/get/2245136330?profile=original
ATTENDEE;ROLE=REQ-PARTICIPANT;PARTSTAT=ACCEPTED;RSVP=TRUE;CN="Guitar C
 ircle New England":http://neighborsforneighbors.org/profile/GuitarCirc
 leNewEngland
END:VEVENT
END:VCALENDAR
