BEGIN:VCALENDAR
PRODID:NingEventWidget-v1
VERSION:2.0
METHOD:PUBLISH
BEGIN:VEVENT
UID:1171189:Event:38323
DTSTAMP:20260421T151239Z
SUMMARY:Gunpowder Gelatine - All Female Queen Cover Band
DESCRIPTION:ALCHEMIST\n\n11/5/2009 10:30 PM at Gunpowder Gelatine\n435
  South Huntington Avenue, Jamaica Plain, Massachusetts 02130\nCost: Al
 ways Free\n\nWe are the only all-female Queen tribute band in the univ
 erse. Yes, we will rock you! Silly question. For booking information, 
 or any other information requests...or just to say hi, our email is gu
 npowdergelatine@comcast.net We’d like to welcome Bethany Hanley to o
 ur line-up as backup vocalist (and understudy!). She’s got a great s
 et of pipes (hey now, be good!) and we’re very happy to have her in 
 the GG family.\n\nFor more information visit http://neighborsforneighb
 ors.org/events/gunpowder-gelatine-all-female
DTSTART:20100319T023000Z
DTEND:20100319T050000Z
CATEGORIES:rock, female, queen, cover, band
LOCATION:The Alchemist Lounge
WEBSITE:http://alchemistlounge.com
URL:http://alchemistlounge.com
CONTACT:617-477-5741
ORGANIZER;CN=Lyndon:http://neighborsforneighbors.org/profile/Lyndon
ATTACH;FMTTYPE="image/jpeg":http://storage.ning.com/topology/rest/1.0/
 file/get/2245126380?profile=original
ATTENDEE;ROLE=REQ-PARTICIPANT;PARTSTAT=ACCEPTED;RSVP=TRUE;CN=Lyndon:ht
 tp://neighborsforneighbors.org/profile/Lyndon
END:VEVENT
END:VCALENDAR
