BEGIN:VCALENDAR
PRODID:NingEventWidget-v1
VERSION:2.0
METHOD:PUBLISH
BEGIN:VEVENT
UID:1171189:Event:96739
DTSTAMP:20260421T190055Z
SUMMARY:HAHA MAMA Mother's Day Comedy Show
DESCRIPTION:Studies have shown that mothers prefer comedy shows over b
 runch.  Studies also show that men who take the mother of their child
 ren to comedy night score big points....this applies to sperm donors, 
 lesbians and gay men too (bring your surrogates).\nSix of the funniest
  Boston female comics will be bringing you their best mothering materi
 al.  Robin Maxfield mother of two abusers (aka teenage girls) will 
 be your host for the evening.  Dont' miss it!\nGET TICKETS NOW\nErika
  Welch\nMarcy Goldberg Sacks\nSam Johnson\nJeanne Sullivan\nBeth Bouch
 er\nMichelle Barbera\n\nFor more information visit http://neighborsfor
 neighbors.org/events/haha-mama-mother-s-day-comedy-show
DTSTART:20130512T233000Z
DTEND:20130513T013000Z
CATEGORIES:"mother's", day, comedy, show
LOCATION:Nick's Comedy Stop
WEBSITE:https://maps.google.com/maps?q=100+Warrenton+Street,+Boston,+M
 A&hl=en&sll=37.0625,-95.677068&sspn=38.963048,60.46875&oq=100+Warrento
 n&hnear=100+Warrenton+St,+Boston,+Suffolk,+Massachusetts+02116&t=m&z=1
 6
URL:https://maps.google.com/maps?q=100+Warrenton+Street,+Boston,+MA&hl
 =en&sll=37.0625,-95.677068&sspn=38.963048,60.46875&oq=100+Warrenton&hn
 ear=100+Warrenton+St,+Boston,+Suffolk,+Massachusetts+02116&t=m&z=16
CONTACT:
ORGANIZER;CN="Robin Maxfield":http://neighborsforneighbors.org/profile
 /RobinMaxfield800
ATTACH;FMTTYPE="image/jpeg":http://storage.ning.com/topology/rest/1.0/
 file/get/2245141258?profile=original
ATTENDEE;ROLE=REQ-PARTICIPANT;PARTSTAT=ACCEPTED;RSVP=TRUE;CN="Robin Ma
 xfield":http://neighborsforneighbors.org/profile/RobinMaxfield800
END:VEVENT
END:VCALENDAR
